BEGIN:VCALENDAR
VERSION:2.0
PRODID:-//Shiloh - ECPv6.15.20//NONSGML v1.0//EN
CALSCALE:GREGORIAN
METHOD:PUBLISH
X-WR-CALNAME:Shiloh
X-ORIGINAL-URL:https://shilohbr.com
X-WR-CALDESC:Events for Shiloh
REFRESH-INTERVAL;VALUE=DURATION:PT1H
X-Robots-Tag:noindex
X-PUBLISHED-TTL:PT1H
BEGIN:VTIMEZONE
TZID:UTC
BEGIN:STANDARD
TZOFFSETFROM:+0000
TZOFFSETTO:+0000
TZNAME:UTC
DTSTART:20220101T000000
END:STANDARD
END:VTIMEZONE
BEGIN:VEVENT
DTSTART;TZID=UTC:20230131T080000
DTEND;TZID=UTC:20230201T170000
DTSTAMP:20260422T201642
CREATED:20230101T154409Z
LAST-MODIFIED:20230209T180527Z
UID:4015-1675152000-1675270800@shilohbr.com
SUMMARY:SHILOH MBC JANUARY 2023 PRAYER CALENDAR
DESCRIPTION:Prayer-by-Phone is each Monday\, Wednesday and Friday\, at 6:00 a.m.\, led by Rev. Emanuel Smith\, Minister of Community Outreach\, and Min. Rodney Johnson. We are also expanding our Prayer-by-Phone by adding an evening opportunity\, Monday – Friday\, at 6:00 p.m. The Pastor will be leading the evening prayer calls. Call 425.436.6377; then enter the code\, 337747. Note that this is a change from the previous telephone number. \nLINK FOR THE PRAYER CALENDAR BELOW: \nhttps://acrobat.adobe.com/link/track?uri=urn:aaid:scds:US:aedbec4a-a55a-3c39-be60-b1f662ce1df7
URL:https://shilohbr.com/event/shiloh-mbc-january-2023-prayer-calendar/
ATTACH;FMTTYPE=application/pdf:https://shilohbr.com/wp-content/uploads/2023/01/JANUARY-2023-PRAYER-CALENDAR-1-1.pdf
END:VEVENT
BEGIN:VEVENT
DTSTART;TZID=UTC:20230201T080000
DTEND;TZID=UTC:20230302T170000
DTSTAMP:20260422T201642
CREATED:20230124T190056Z
LAST-MODIFIED:20230124T190158Z
UID:4055-1675238400-1677776400@shilohbr.com
SUMMARY:SHILOH MBC FEBRUARY 2023 PRAYER CALENDAR
DESCRIPTION:Prayer-by-Phone is each Monday\, Wednesday and Friday\, at 6:00 a.m.\, led by Rev. Emanuel Smith\, Minister of Community Outreach\, and Min. Rodney Johnson. We are also expanding our Prayer-by-Phone by adding an evening opportunity\, Monday – Friday\, at 6:00 p.m. The Pastor will be leading the evening prayer calls. Call 425.436.6377; then enter the code\, 337747. Note that this is a change from the previous telephone number. \nLINK FOR THE PRAYER CALENDAR BELOW: \nhttps://acrobat.adobe.com/link/track?uri=urn:aaid:scds:US:b361653e-bcd1-3817-b1e8-f73587799ba8 \n 
URL:https://shilohbr.com/event/shiloh-mbc-february-2023-prayer-calendar/
ATTACH;FMTTYPE=application/pdf:https://shilohbr.com/wp-content/uploads/2023/01/FEBRUARY-PRAYER-CALENDAR-2023-FINAL.pdf
END:VEVENT
BEGIN:VEVENT
DTSTART;TZID=UTC:20230225T090000
DTEND;TZID=UTC:20230228T110000
DTSTAMP:20260422T201642
CREATED:20230209T060037Z
LAST-MODIFIED:20230228T223757Z
UID:3993-1677315600-1677582000@shilohbr.com
SUMMARY:PROPHETIC VOICES BLACK HISTORY CLASSES REGISTRATION
DESCRIPTION:PROPHETIC VOICES BLACK HISTORY CLASSES will be held each Saturday in February from 9:00 a.m. – 11:00 a.m. \nComplete the registration form and return it to Shiloh Missionary Baptist Church\, 185 Eddie Robinson Sr. Drive\, Baton Rouge\, LA 70802 \nContact the church office for additional information at 225/343-0640 email jturner@shilohmbc.com. \nThe application to register for the Black History Classes link is below: \nhttps://acrobat.adobe.com/link/review?uri=urn:aaid:scds:US:ea4f4775-ae77-3294-b3de-a722cc5989e8 \n 
URL:https://shilohbr.com/event/prophetic-voices-black-history-classes-application/
CATEGORIES:Children
ATTACH;FMTTYPE=application/pdf:https://shilohbr.com/wp-content/uploads/2022/01/BLACK-HISTORY-FLYER-2023-SHILOH.pdf
END:VEVENT
END:VCALENDAR