BEGIN:VCALENDAR
VERSION:2.0
PRODID:-//Shiloh - ECPv6.15.20//NONSGML v1.0//EN
CALSCALE:GREGORIAN
METHOD:PUBLISH
X-WR-CALNAME:Shiloh
X-ORIGINAL-URL:https://shilohbr.com
X-WR-CALDESC:Events for Shiloh
REFRESH-INTERVAL;VALUE=DURATION:PT1H
X-Robots-Tag:noindex
X-PUBLISHED-TTL:PT1H
BEGIN:VTIMEZONE
TZID:UTC
BEGIN:STANDARD
TZOFFSETFROM:+0000
TZOFFSETTO:+0000
TZNAME:UTC
DTSTART:20210101T000000
END:STANDARD
END:VTIMEZONE
BEGIN:VEVENT
DTSTART;TZID=UTC:20221201T080000
DTEND;TZID=UTC:20230101T170000
DTSTAMP:20260422T183133
CREATED:20221125T160128Z
LAST-MODIFIED:20221125T160128Z
UID:3983-1669881600-1672592400@shilohbr.com
SUMMARY:SHILOH MBC DECEMBER PRAYER CALENDAR
DESCRIPTION:Prayer-by-Phone is each Monday\, Wednesday and Friday\, at 6:00 a.m.\, led by Rev. Emanuel Smith\, Minister of Community Outreach\, and Min. Rodney Johnson. We are also expanding our Prayer-by-Phone by adding an evening opportunity\, Monday – Friday\, at 6:00 p.m. The Pastor will be leading the evening prayer calls. Call 425.436.6377; then enter the code\, 337747. Note that this is a change from the previous telephone number. \nLINK FOR THE DECEMBER PRAYER CALENDAR BELOW: \nhttps://acrobat.adobe.com/link/review?uri=urn:aaid:scds:US:391e05d5-6290-3f93-a322-38e01e875e38
URL:https://shilohbr.com/event/shiloh-mbc-december-prayer-calendar/
ATTACH;FMTTYPE=application/pdf:https://shilohbr.com/wp-content/uploads/2022/11/SHILOH-MBC-DECEMBER-2022-PRAYER-CALENDER.pdf
END:VEVENT
BEGIN:VEVENT
DTSTART;TZID=UTC:20221231T080000
DTEND;TZID=UTC:20230101T170000
DTSTAMP:20260422T183133
CREATED:20211214T233551Z
LAST-MODIFIED:20220318T164040Z
UID:3516-1672473600-1672592400@shilohbr.com
SUMMARY:SHILOH MBC SHIELD FALL 2021
DESCRIPTION:GREETINGS ALL!!\nThis issue of THE SHIELD is filled with testimonials on how\nGOD has sustained us as a Church through more than 24 months\nof a global pandemic.\nLINK BELOW: \nhttps://documentcloud.adobe.com/link/track?uri=urn:aaid:scds:US:e28f57ba-971a-4482-8c7e-51d7b31012d8\n  \n 
URL:https://shilohbr.com/event/shiloh-mbc-shield-fall-2021/
LOCATION:SHILOH BR\, 185 EDDIE ROBINSON SR DRIVE\, BATON ROUGE\, LA\, 70802\, United States
ATTACH;FMTTYPE=application/pdf:https://shilohbr.com/wp-content/uploads/2021/12/12-2021-SHILOH-MBC-FALL-SHIELD-FINAL-COPY.pdf
END:VEVENT
BEGIN:VEVENT
DTSTART;TZID=UTC:20230116T090000
DTEND;TZID=UTC:20230117T110000
DTSTAMP:20260422T183133
CREATED:20230112T203543Z
LAST-MODIFIED:20230116T135118Z
UID:4034-1673859600-1673953200@shilohbr.com
SUMMARY:CELEBRATION HONORING THE LIFE AND LEGACY OF DR. MARTIN LUTHER KING\, JR. IN PARTNERSHIP WITH THE BATON ROUGE BRANCH OF NAACP
DESCRIPTION:CHURCH SERVICE\nCELEBRATION HONORING THE LIFE AND LEGACY OF DR. MARTIN LUTHER KING\, JR. IN PARTNERSHIP WITH THE BATON ROUGE BRANCH OF NAACP\n\n\nMonday\, January 16 9:00 a.m.\n\nShiloh Missionary Baptist Church \n185 Eddie Robinson Sr Dr\, Baton Rouge\, LA 70802\n\nEveryone is welcomed to join us in-person or watch the live stream on Facebook at Mayor-President Sharon Weston Broome. https://www.facebook.com/MayorPresidentSharonWestonBroome/\nABOUT\nRev. Dr.Martin Luther King\, Jr. once said “Human progress is neither automatic nor inevitable. Every step toward the goal of justice requires sacrifice\, suffering\, and struggle; the tireless exertions and passionate concern of dedicated individuals.” In this spirit\, this MLK Holiday BR 2023\, we are “Walking in Legacy” and celebrating the past\, present\, and future of African American progress\, right here in the capital city.\n‍\nOffice of Mayor-President Sharon Weston Broome and The City of Baton Rouge are proud to partner with various organizations and corporations to expand this time of celebration and service that will serve as a launch pad for year round community conversation\, engagement\, and service. Mayor-President Broome’s vision “is to create a celebration for the entire city with the goal of commemorating the life and legacy of Dr. Martin Luther King\, Jr. through establishing and reinforcing the work being done by government agencies\, community non-profit organizations\, and private citizens to promote peace and non-violence locally and around the world.”\n‍\nMLK Holiday BR 2023 will not only bring together diverse people to inspire and be inspired through service\, but to advance our community through three key themes: literacy\, youth empowerment\, and equity and justice as well. We are celebrating those doing the work to improve Baton Rouge\, and set the foundation for more to come.
URL:https://shilohbr.com/event/celebration-honoring-the-life-and-legacy-of-dr-martin-luther-king-jr-in-partnership-with-the-baton-rouge-branch-of-naacp/
ATTACH;FMTTYPE=image/jpeg:https://shilohbr.com/wp-content/uploads/2023/01/MLK-FLYER-2023-2.jpg
END:VEVENT
BEGIN:VEVENT
DTSTART;TZID=UTC:20230131T080000
DTEND;TZID=UTC:20230201T170000
DTSTAMP:20260422T183133
CREATED:20230101T154409Z
LAST-MODIFIED:20230209T180527Z
UID:4015-1675152000-1675270800@shilohbr.com
SUMMARY:SHILOH MBC JANUARY 2023 PRAYER CALENDAR
DESCRIPTION:Prayer-by-Phone is each Monday\, Wednesday and Friday\, at 6:00 a.m.\, led by Rev. Emanuel Smith\, Minister of Community Outreach\, and Min. Rodney Johnson. We are also expanding our Prayer-by-Phone by adding an evening opportunity\, Monday – Friday\, at 6:00 p.m. The Pastor will be leading the evening prayer calls. Call 425.436.6377; then enter the code\, 337747. Note that this is a change from the previous telephone number. \nLINK FOR THE PRAYER CALENDAR BELOW: \nhttps://acrobat.adobe.com/link/track?uri=urn:aaid:scds:US:aedbec4a-a55a-3c39-be60-b1f662ce1df7
URL:https://shilohbr.com/event/shiloh-mbc-january-2023-prayer-calendar/
ATTACH;FMTTYPE=application/pdf:https://shilohbr.com/wp-content/uploads/2023/01/JANUARY-2023-PRAYER-CALENDAR-1-1.pdf
END:VEVENT
END:VCALENDAR