BEGIN:VCALENDAR
VERSION:2.0
PRODID:-//Shiloh - ECPv6.15.20//NONSGML v1.0//EN
CALSCALE:GREGORIAN
METHOD:PUBLISH
X-ORIGINAL-URL:https://shilohbr.com
X-WR-CALDESC:Events for Shiloh
REFRESH-INTERVAL;VALUE=DURATION:PT1H
X-Robots-Tag:noindex
X-PUBLISHED-TTL:PT1H
BEGIN:VTIMEZONE
TZID:UTC
BEGIN:STANDARD
TZOFFSETFROM:+0000
TZOFFSETTO:+0000
TZNAME:UTC
DTSTART:20210101T000000
END:STANDARD
END:VTIMEZONE
BEGIN:VEVENT
DTSTART;TZID=UTC:20220313T080000
DTEND;TZID=UTC:20221231T170000
DTSTAMP:20260422T120757
CREATED:20220312T060008Z
LAST-MODIFIED:20220313T013440Z
UID:3650-1647158400-1672506000@shilohbr.com
SUMMARY:WE ARE BACK IN THE SANCTUARY!! SHILOH MBC REOPENING GUIDELINES
DESCRIPTION:We are Re-opening on March 13\, 2022\, with worship at 8:00 a.m. and 11:00 a.m. As we welcome you back into the Sanctuary\, please note the following: \n\nWe will continue with our Modified Order of Worship.\nWe are asking that you wear masks and exercise social distance. We will have masks and sanitizer on hand.\nThe sanctuary will be sanitized between worship experiences. We are asking you to assist us by remaining out of the sanctuary between 9:30 a.m. and 10:30a.m.\nWe will continue with small groups rendering music until the Music Ministry is ready to retu1n to choirs.\nUshers are asked to serve.\nNo return to worship folders; we will rely on the screens.\nBus service will resume on March 20\, but riders must wear mask.\nOffering may be placed in secure receptacles located at the three entrances\, or you may continue to use electronic giving or mail.\nVirtual Sunday School will continue.\nVirtual announcements will continue to run on our media platforms and our website.\nYou are welcome to return to in-person Bible Study on Wednesday\, March 16\, at Noon. We will not immediately return to Evening Bible.
URL:https://shilohbr.com/event/back-in-the-sanctuary-shiloh-mbc-re-opening-guidelines/
ATTACH;FMTTYPE=image/jpeg:https://shilohbr.com/wp-content/uploads/2016/08/shiloh-Who-we-are-6.jpg
END:VEVENT
BEGIN:VEVENT
DTSTART;TZID=UTC:20220814T110000
DTEND;TZID=UTC:20221231T130000
DTSTAMP:20260422T120757
CREATED:20220811T170805Z
LAST-MODIFIED:20250814T194924Z
UID:3847-1660474800-1672491600@shilohbr.com
SUMMARY:JOIN US AS WE CELEBRATE 150 YEARS OF SERVICE at 11 A M
DESCRIPTION:Shiloh Missionary Baptist Church was organized in 1872 as an evangelistic endeavor of Virginia Missionaries\, and has enjoyed 150 years as a harmonious congregation of Jesus Christ without a split.\nShiloh has had only five Pastors in its 150-year history—George Byrd\, Jack Mitchell\, Dudley Turnbull Smith\, Charles Turnbull Smith\, and our current Pastor\, Fred Jeff Smith. \nOn Sunday\, August 14th we will have one worship service at 11:00 a.m.\, where we will celebrate Shiloh’s 150th Church Anniversary. 
URL:https://shilohbr.com/event/join-us-as-we-celebrate-150-years-of-service/
ATTACH;FMTTYPE=application/pdf:https://shilohbr.com/wp-content/uploads/2022/08/SHILOH-150th-ANNIVERSARY-LOGO-1.pdf
END:VEVENT
BEGIN:VEVENT
DTSTART;TZID=UTC:20220814T110000
DTEND;TZID=UTC:20221231T130000
DTSTAMP:20260422T120757
CREATED:20220822T060019Z
LAST-MODIFIED:20220824T154351Z
UID:3849-1660474800-1672491600@shilohbr.com
SUMMARY:SHILOH CELEBRATES OUR 2022 SCHOLARSHIP RECIPIENTS LINK HERE FOR PICTURES
DESCRIPTION:In conjunction with our 150th Church Anniversary during our Mid-Morning Worship (11:00 a.m.)\, we will announce our Scholarship Recipients and we will recognize all of our 2022 Graduates.   \nTHE LINK FOR THE GRADUATES IS BELOW: \nhttps://acrobat.adobe.com/link/review?uri=urn:aaid:scds:US:3ddb3caf-20c0-3e88-a28d-a462870e6f69
URL:https://shilohbr.com/event/shiloh-missionary-baptist-church-celebrates-our-2022-scholarship-recipients/
ATTACH;FMTTYPE=application/pdf:https://shilohbr.com/wp-content/uploads/2022/08/2022-GRADUATES-FLYER.pdf
END:VEVENT
BEGIN:VEVENT
DTSTART;TZID=UTC:20221001T150000
DTEND;TZID=UTC:20221101T170000
DTSTAMP:20260422T120757
CREATED:20221001T045827Z
LAST-MODIFIED:20221002T135608Z
UID:3779-1664636400-1667322000@shilohbr.com
SUMMARY:OCTOBER PRAYER CALENDAR 2022
DESCRIPTION:Prayer-by-Phone is each Monday\, Wednesday and Friday\, at 6:00 a.m.\, led by Rev. Emanuel Smith\, Minister of Community Outreach\, and Min. Rodney Johnson. We are also expanding our Prayer-by-Phone by adding an evening opportunity\, Monday – Friday\, at 6:00 p.m. The Pastor will be leading the evening prayer calls. Call 425.436.6377; then enter the code\, 337747. Note that this is a change from the previous telephone number. \nLINK FOR THE PRAYER CALENDAR BELOW: \nhttps://acrobat.adobe.com/link/review?uri=urn:aaid:scds:US:d7c96c89-7402-3897-8c8f-6ccbea7fc6fa
URL:https://shilohbr.com/event/july-prayer-calendar-2022/
ATTACH;FMTTYPE=application/pdf:https://shilohbr.com/wp-content/uploads/2022/10/OCTOBER-2022-PRAYER-CALENDAR.pdf
END:VEVENT
BEGIN:VEVENT
DTSTART;TZID=UTC:20221030T080000
DTEND;TZID=UTC:20221201T170000
DTSTAMP:20260422T120757
CREATED:20221030T230644Z
LAST-MODIFIED:20221125T160415Z
UID:3955-1667116800-1669914000@shilohbr.com
SUMMARY:SHILOH MBC NOVEMBER PRAYER CALENDAR
DESCRIPTION:Prayer-by-Phone is each Monday\, Wednesday and Friday\, at 6:00 a.m.\, led by Rev. Emanuel Smith\, Minister of Community Outreach\, and Min. Rodney Johnson. We are also expanding our Prayer-by-Phone by adding an evening opportunity\, Monday – Friday\, at 6:00 p.m. The Pastor will be leading the evening prayer calls. Call 425.436.6377; then enter the code\, 337747. Note that this is a change from the previous telephone number. \nLINK FOR THE NOVEMBER PRAYER CALENDAR BELOW: \nhttps://acrobat.adobe.com/link/review?uri=urn:aaid:scds:US:d1577299-000a-35ba-9c9d-63651c8d7e39
URL:https://shilohbr.com/event/3955/
ATTACH;FMTTYPE=application/pdf:https://shilohbr.com/wp-content/uploads/2022/10/NOVEMBER-2022-PRAYER-CALENDAR.pdf
END:VEVENT
BEGIN:VEVENT
DTSTART;TZID=UTC:20221030T100000
DTEND;TZID=UTC:20221130T120000
DTSTAMP:20260422T120757
CREATED:20221026T151310Z
LAST-MODIFIED:20221030T224635Z
UID:3943-1667124000-1669809600@shilohbr.com
SUMMARY:FALL FESTIVAL FOR JESUS
DESCRIPTION:Everyone is invited to our Fall Festival for Jesus on Sunday\, October 30th immediately following our 8:00 a.m. worship service. There will be fun\, food and festivities. YES there will be a cake walk!!! NO COSTUMES PLEASE.
URL:https://shilohbr.com/event/fall-festival-for-jesus/
CATEGORIES:Children,Featured
ATTACH;FMTTYPE=application/pdf:https://shilohbr.com/wp-content/uploads/2022/10/FESTIVAL-FLYER-2022-WEBSITE.pdf
END:VEVENT
END:VCALENDAR