BEGIN:VCALENDAR
VERSION:2.0
PRODID:-//Shiloh - ECPv6.15.20//NONSGML v1.0//EN
CALSCALE:GREGORIAN
METHOD:PUBLISH
X-ORIGINAL-URL:https://shilohbr.com
X-WR-CALDESC:Events for Shiloh
REFRESH-INTERVAL;VALUE=DURATION:PT1H
X-Robots-Tag:noindex
X-PUBLISHED-TTL:PT1H
BEGIN:VTIMEZONE
TZID:UTC
BEGIN:STANDARD
TZOFFSETFROM:+0000
TZOFFSETTO:+0000
TZNAME:UTC
DTSTART:20240101T000000
END:STANDARD
END:VTIMEZONE
BEGIN:VEVENT
DTSTART;TZID=UTC:20250823T093000
DTEND;TZID=UTC:20250824T123000
DTSTAMP:20260419T153302
CREATED:20250725T152144Z
LAST-MODIFIED:20250814T133546Z
UID:5165-1755941400-1756038600@shilohbr.com
SUMMARY:JOIN THE SHILOH COMFORT AND CARE MINISTRY FOR “A TIME OF REFRESHING 2ND ANNUAL PRAYER BRUNCH”.
DESCRIPTION:JOIN THE SHILOH COMFORT & CARE MINISTRY FOR  “A TIME OF REFRESHING 2ND ANNUAL PRAYER BRUNCH” \nSATURDAY\, AUGUST 23\, 2025\, 9:30 A.M. – 12:30 P.M.\nin the D. T. Smith Fellowship Hall. \nWe will commemorate the 20th year anniversary of Hurricane Katrina and recognize survivors who are now members of our Shiloh congregation. \nRSVP Required by August 15\, 2025\, to clayborn.sg18@gmail.com or call 225-252-2061.
URL:https://shilohbr.com/event/join-the-shiloh-comfort-care-ministry-for-a-time-of-refreshing-2nd-annual-prayer-brunch/
CATEGORIES:Featured
ATTACH;FMTTYPE=application/pdf:https://shilohbr.com/wp-content/uploads/2025/07/COMFORT-AND-CARE-PRAYER-BRUNCH-FLYER-2025-3.pdf
END:VEVENT
END:VCALENDAR